BEGIN:VCALENDAR
VERSION:2.0
PRODID:-//eventon.com NONSGML v1.0//EN
CALSCALE:GREGORIAN
METHOD:PUBLISH
BEGIN:VEVENT
UID:69e9d881c7201
DTSTAMP:20260423T082953Z
DTSTART:20260512T170000Z
DTEND:20260512T183000Z
LOCATION:
SUMMARY:PostChemSex
DESCRIPTION:\nhttps://www.shalk.de/events/postchemsex-3/var/ri-18.l-L1
URL:https://www.shalk.de/events/postchemsex-3/var/ri-18.l-L1
END:VEVENT
END:VCALENDAR